BEGIN:VCALENDAR
VERSION:2.0
PRODID:-//ChamberMaster//Event Calendar 2.0//EN
METHOD:PUBLISH
X-PUBLISHED-TTL:P3D
REFRESH-INTERVAL:P3D
CALSCALE:GREGORIAN
BEGIN:VEVENT
DTSTART:20190518T180000Z
DTEND:20190518T210000Z
X-MICROSOFT-CDO-ALLDAYEVENT:FALSE
SUMMARY:Dog Adoptions & A Dog's Journey Movie
DESCRIPTION:A Dogs Journey Movie and Dog Adoptions through the Pinal County Animal Care & Control.
X-ALT-DESC;FMTTYPE=text/html:A Dogs Journey Movie and Dog Adoptions through the Pinal County Animal Care &amp\; Control.
LOCATION:16000 Maricopa Road\, Maricopa\, AZ 85139
UID:e.1561.36699
SEQUENCE:3
DTSTAMP:20260423T021343Z
URL:https://business.chandlerchamber.com/events/details/dog-adoptions-a-dog-s-journey-movie-36699
END:VEVENT

END:VCALENDAR
