BEGIN:VCALENDAR
VERSION:2.0
PRODID:-//ChamberMaster//Event Calendar 2.0//EN
METHOD:PUBLISH
X-PUBLISHED-TTL:P3D
REFRESH-INTERVAL:P3D
CALSCALE:GREGORIAN
BEGIN:VEVENT
DTSTART:20241020T170000Z
DTEND:20241020T210000Z
X-MICROSOFT-CDO-ALLDAYEVENT:FALSE
SUMMARY:Downtown Chandler Art Walk
DESCRIPTION:Stroll the streets of Downtown to enjoy this event series from 10 a.m. - 2 p.m. every Sunday in October.  Showcasing local artists of various mediums\, this FREE community event gives a platform to established artists as well as up and coming students to present and sell their craft. \n\nMake it a Sunday Funday by stopping by your favorite Downtown business for brunch\, cocktails\, shopping\, and entertainment. \n\nEnjoy live music provided by local musicians at each Downtown Chandler Art Walk!
X-ALT-DESC;FMTTYPE=text/html:<p style="box-sizing: border-box\; margin-top: 0px\; margin-bottom: 1rem\; font-size: 18px\; line-height: 1.5\; color: rgb(17\, 17\, 17)\; font-family: &quot\;Source Sans Pro&quot\;\, sans-serif\;">Stroll the streets of Downtown to enjoy this event series from 10 a.m. - 2 p.m. every Sunday in October.&nbsp\; Showcasing local artists of various mediums\, this FREE&nbsp\;community event gives a platform to established artists as well as up and coming students to present and sell their craft.&nbsp\;</p>\n\n<p style="box-sizing: border-box\; margin-top: 0px\; margin-bottom: 1rem\; font-size: 18px\; line-height: 1.5\; color: rgb(17\, 17\, 17)\; font-family: &quot\;Source Sans Pro&quot\;\, sans-serif\;">Make it a Sunday Funday by stopping by your favorite Downtown business for brunch\, cocktails\, shopping\, and entertainment.&nbsp\;</p>\n\n<p style="box-sizing: border-box\; margin-top: 0px\; margin-bottom: 1rem\; font-size: 18px\; line-height: 1.5\; color: rgb(17\, 17\, 17)\; font-family: &quot\;Source Sans Pro&quot\;\, sans-serif\;">Enjoy live music provided by local musicians at each Downtown Chandler Art Walk!</p>\n
LOCATION:The Colonnade Lawn by Crust\, Dr. A.J. Chandler Park West
UID:e.1561.50601
SEQUENCE:3
DTSTAMP:20260420T112757Z
URL:https://business.chandlerchamber.com/events/details/downtown-chandler-art-walk-10-20-2024-50601
END:VEVENT

END:VCALENDAR
