BEGIN:VCALENDAR
VERSION:2.0
PRODID:-//ChamberMaster//Event Calendar 2.0//EN
METHOD:PUBLISH
X-PUBLISHED-TTL:P3D
REFRESH-INTERVAL:P3D
CALSCALE:GREGORIAN
BEGIN:VEVENT
DTSTART:20200829T140000Z
DTEND:20200829T173000Z
X-MICROSOFT-CDO-ALLDAYEVENT:FALSE
SUMMARY:Downtown Chandler Farmers Market
DESCRIPTION:The Downtown Chandler Farmers Market returns to Dr. A.J. Chandler Park West on Saturday\, June 6 with new summer hours. Market hours will now run from 7 a.m. ? 10:30 a.m. to help beat the Arizona heat while providing an essential need for the community. Safety precautions will also be enhanced in coordination with the guidelines set forth by the Center for Disease Control in response to COVID-19. For more information\, please visit https://downtownchandler.org/farmersmarket.
X-ALT-DESC;FMTTYPE=text/html:The Downtown Chandler Farmers Market returns to Dr. A.J. Chandler Park West on Saturday\, June 6 with new summer hours. Market hours will now run from 7 a.m. ? 10:30 a.m. to help beat the Arizona heat while providing an essential need for the community. Safety precautions will also be enhanced in coordination with the guidelines set forth by the Center for Disease Control in response to COVID-19. For more information\, please visit https://downtownchandler.org/farmersmarket.
LOCATION:Dr. A.J. Chandler Park West
UID:e.1561.39017
SEQUENCE:3
DTSTAMP:20260424T213403Z
URL:https://business.chandlerchamber.com/events/details/downtown-chandler-farmers-market-08-29-2020-39017
END:VEVENT

END:VCALENDAR
