BEGIN:VCALENDAR
VERSION:2.0
PRODID:-//ChamberMaster//Event Calendar 2.0//EN
METHOD:PUBLISH
X-PUBLISHED-TTL:P3D
REFRESH-INTERVAL:P3D
CALSCALE:GREGORIAN
BEGIN:VEVENT
DTSTART:20191005T160000Z
DTEND:20191005T200000Z
X-MICROSOFT-CDO-ALLDAYEVENT:FALSE
SUMMARY:Downtown Chandler Farmers Market
DESCRIPTION:Downtown Chandler Farmers Market\n\nOur Farmers Market will return on Saturday\, October 5 in Dr. AJ Chandler Park West with new hours! Due to the success of our first year\, the Market will now be year-round.\n\n\n\nOctober 2019 - May 2020\n\nSaturday from 9 a.m. - 1 p.m.\n\n\n\nJune 2020 - September 2020\n\nSaturday from 7:30 - 10:30 a.m.\n\n\n\nWe will continue to partner with FLO Yoga & Cycle on Yoga in the Park\, a free 45-minute all levels class happening Saturday's at 10 a.m. in Dr. AJ Chandler Park West. Look for additional programming coming soon!
X-ALT-DESC;FMTTYPE=text/html:<strong><span style="color:#202020\;"><span style="font-family:helvetica\,sans-serif\;"><span style="font-size:12.0pt\;">Downtown Chandler Farmers Market</span></span></span></strong><br />\n<span style="color:#202020\;"><span style="font-family:helvetica\,sans-serif\;"><span style="font-size:12.0pt\;">Our Farmers Market will return on Saturday\, October 5 in Dr. AJ Chandler Park West with new hours! Due to the success of our first year\, the Market will now be year-round.<br />\n<br />\nOctober 2019 - May 2020<br />\nSaturday from 9 a.m. - 1 p.m.<br />\n<br />\nJune 2020 - September 2020<br />\nSaturday from 7:30 - 10:30 a.m.<br />\n<br />\nWe will continue to partner with FLO Yoga &amp\; Cycle on Yoga in the Park\, a free 45-minute all levels class happening Saturday&#39\;s at 10 a.m. in Dr. AJ Chandler Park West. Look for additional programming coming soon!</span></span></span>
LOCATION:Dr. AJ Chandler Park West
UID:e.1561.36832
SEQUENCE:3
DTSTAMP:20260422T202325Z
URL:https://business.chandlerchamber.com/events/details/downtown-chandler-farmers-market-36832
END:VEVENT

END:VCALENDAR
