BEGIN:VCALENDAR
VERSION:2.0
PRODID:-//ChamberMaster//Event Calendar 2.0//EN
METHOD:PUBLISH
X-PUBLISHED-TTL:P3D
REFRESH-INTERVAL:P3D
CALSCALE:GREGORIAN
BEGIN:VEVENT
DTSTART:20191019T190000Z
DTEND:20191019T190000Z
X-MICROSOFT-CDO-ALLDAYEVENT:FALSE
SUMMARY:Downtown Chandler pub crawl
DESCRIPTION:The sixth annual Save Second Base Pub Crawl in downtown Chandler begins at The Local Chandler at noon Saturday. Participants then will make their way to Bourbon Jacks\, Murphy's Law\, and El Zocalo. Tickets are $60 and include food at The Local\, swag bags\, two drinks at each bar\, and a State Forty Eight T-shirt. All proceeds will go to Sonya Wade\, a local mom battling breast cancer.
X-ALT-DESC;FMTTYPE=text/html:<p style="line-height:150%"><span style="font-size:10.5pt\;line-height:150%\;\nfont-family:&quot\;Verdana&quot\;\,sans-serif\;color:black">The sixth annual <a href="https://mouthbysouthwest.us2.list-manage.com/track/click?u=8a00a82174eca717737acad07&amp\;id=5bbe6819f1&amp\;e=75f06073c4" target="_blank"><strong><span style="font-family:&quot\;Verdana&quot\;\,sans-serif\;\ncolor:#CC6600\;text-decoration:none\;text-underline:none">Save Second Base Pub Crawl</span></strong></a>&nbsp\;in downtown Chandler begins at <a href="https://mouthbysouthwest.us2.list-manage.com/track/click?u=8a00a82174eca717737acad07&amp\;id=b6faa743b1&amp\;e=75f06073c4" target="_blank"><strong><span style="font-family:&quot\;Verdana&quot\;\,sans-serif\;\ncolor:#CC6600\;text-decoration:none\;text-underline:none">The Local Chandler</span></strong></a> at noon Saturday. Participants then will make their way to <a href="https://mouthbysouthwest.us2.list-manage.com/track/click?u=8a00a82174eca717737acad07&amp\;id=cf51808be3&amp\;e=75f06073c4" target="_blank"><strong><span style="font-family:&quot\;Verdana&quot\;\,sans-serif\;\ncolor:#CC6600\;text-decoration:none\;text-underline:none">Bourbon Jacks</span></strong></a>\, <a href="https://mouthbysouthwest.us2.list-manage.com/track/click?u=8a00a82174eca717737acad07&amp\;id=ceb5fabb00&amp\;e=75f06073c4" target="_blank"><strong><span style="font-family:&quot\;Verdana&quot\;\,sans-serif\;\ncolor:#CC6600\;text-decoration:none\;text-underline:none">Murphy&rsquo\;s Law</span></strong></a>\, and <a href="https://mouthbysouthwest.us2.list-manage.com/track/click?u=8a00a82174eca717737acad07&amp\;id=39b890b33b&amp\;e=75f06073c4" target="_blank"><strong><span style="font-family:&quot\;Verdana&quot\;\,sans-serif\;\ncolor:#CC6600\;text-decoration:none\;text-underline:none">El Zocalo</span></strong></a>. Tickets are $60 and include food at The Local\, swag bags\, two drinks at each bar\, and a State Forty Eight&nbsp\;T-shirt. All proceeds will go to Sonya Wade\, a local mom battling breast cancer.<o:p></o:p></span></p>\n
LOCATION:
UID:e.1561.37995
SEQUENCE:3
DTSTAMP:20260422T201809Z
URL:https://business.chandlerchamber.com/events/details/downtown-chandler-pub-crawl-37995
END:VEVENT

END:VCALENDAR
