BEGIN:VCALENDAR
VERSION:2.0
PRODID:-//ChamberMaster//Event Calendar 2.0//EN
METHOD:PUBLISH
X-PUBLISHED-TTL:P3D
REFRESH-INTERVAL:P3D
CALSCALE:GREGORIAN
BEGIN:VEVENT
DTSTART:20251121T010000Z
DTEND:20251121T040000Z
X-MICROSOFT-CDO-ALLDAYEVENT:FALSE
SUMMARY:Downtown Chandler: Third Thursday
DESCRIPTION:Centered around celebrating local artists and makers\, shoppers will enjoy live entertainment while strolling the streets of Downtown and soaking in the authentic and local vibe that is Chandler.\n\n\n\nJoin us for:\n\nLocal Vendors\n\nCommunity Art Project\n\nLive Music & Entertainment\n\nVinyl Record Swap\n\nFamily Fun\n\nDog-Friendly Vibes
X-ALT-DESC;FMTTYPE=text/html:<span style="color:#000000\;"><span style="font-size:16px\;"><span style="font-family:arial\;">Centered around celebrating local artists and makers\, shoppers will enjoy live entertainment while strolling the streets of Downtown and soaking in the authentic and local vibe that is Chandler.<br />\n<br />\nJoin us for:<br />\nLocal Vendors<br />\nCommunity Art Project<br />\nLive Music &amp\; Entertainment<br />\nVinyl Record Swap<br />\nFamily Fun<br />\nDog-Friendly Vibes</span></span></span>
LOCATION:Dr. A.J. Chandler Park 3 South Arizona Avenue handler\, Arizona 85224
UID:e.1561.51908
SEQUENCE:3
DTSTAMP:20260424T075957Z
URL:https://business.chandlerchamber.com/events/details/downtown-chandler-third-thursday-51908
END:VEVENT

END:VCALENDAR
