BEGIN:VCALENDAR
VERSION:2.0
PRODID:-//ChamberMaster//Event Calendar 2.0//EN
METHOD:PUBLISH
X-PUBLISHED-TTL:P3D
REFRESH-INTERVAL:P3D
CALSCALE:GREGORIAN
BEGIN:VEVENT
DTSTART:20230128T170000Z
DTEND:20230128T200000Z
X-MICROSOFT-CDO-ALLDAYEVENT:FALSE
SUMMARY:Downtown Chandler Wedding Walk
DESCRIPTION:This event is put on by the Downtown Chandler Community Partnership. Click here for more information and tickets\nA self-guided tour for brides and grooms to explore the downtown businesses and their options for planning their wedding weekend experience. From bachelor and bachelorette parties to venues for your wedding\, reception\, and rehearsal dinner to hair and make up artists\, Downtown Chandler is your one stop\, place to be for planning your big day! Join us for a day to preview all of your wedding options in Downtown Chandler!
X-ALT-DESC;FMTTYPE=text/html:<div style="text-align: center\;"><span style="font-size:14px\;"><span style="font-family:verdana\,sans-serif\;"><span style="color:#800080\;">This event is put on by the Downtown Chandler Community Partnership. Click </span><a href="https://www.eventbrite.com/e/downtown-chandler-wedding-walk-tickets-499765491037"><span style="color:#800080\;">here</span></a><span style="color:#800080\;"> for more information and tickets</span></span></span></div>\n<span style="font-size:14px\;"><span style="color:#111111\;"><span style="font-family:verdana\,sans-serif\;">A self-guided tour for brides and grooms to explore the downtown businesses and their options for planning their wedding weekend experience.&nbsp\;From bachelor and bachelorette parties to venues for your wedding\, reception\, and rehearsal dinner to hair and make up artists\, Downtown Chandler is your one stop\, place to be for planning your big day! Join us for a day to preview all of your wedding options in Downtown Chandler!</span></span></span>
LOCATION:Downtown Chandler 3 S Arizona Ave Chandler\, AZ 85225
UID:e.1561.44596
SEQUENCE:3
DTSTAMP:20260420T215848Z
URL:https://business.chandlerchamber.com/events/details/downtown-chandler-wedding-walk-44596
END:VEVENT

END:VCALENDAR
