BEGIN:VCALENDAR
VERSION:2.0
PRODID:-//ChamberMaster//Event Calendar 2.0//EN
METHOD:PUBLISH
X-PUBLISHED-TTL:P3D
REFRESH-INTERVAL:P3D
CALSCALE:GREGORIAN
BEGIN:VEVENT
DTSTART:20220213T023000Z
DTEND:20220213T043000Z
X-MICROSOFT-CDO-ALLDAYEVENT:FALSE
SUMMARY:Drumline Live!
DESCRIPTION:Created by the team behind the hit movie Drumline\, the theatre production features the heart-pounding rhythms of the movie as audiences are taken on a historical journey through jazz\, R&B\, hip-hop and African-American dance culture. This versatile group of musicians and dancers bring the explosive energy and athleticism of the Historically Black Colleges and Universities (HCBU) marching band experience.
X-ALT-DESC;FMTTYPE=text/html:Created by the team behind the hit movie Drumline\, the theatre production features the heart-pounding rhythms of the movie as audiences are taken on a historical journey through jazz\, R&amp\;B\, hip-hop and African-American dance culture. This versatile group of musicians and dancers bring the explosive energy and athleticism of the Historically Black Colleges and Universities (HCBU) marching band experience.
LOCATION:Chandler Center for the Arts 250 N. Arizona Avenue Chandler\, AZ 85225
UID:e.1561.40095
SEQUENCE:3
DTSTAMP:20260423T232836Z
URL:https://business.chandlerchamber.com/events/details/drumline-live-40095
END:VEVENT

END:VCALENDAR
