BEGIN:VCALENDAR
VERSION:2.0
PRODID:-//ChamberMaster//Event Calendar 2.0//EN
METHOD:PUBLISH
X-PUBLISHED-TTL:P3D
REFRESH-INTERVAL:P3D
CALSCALE:GREGORIAN
BEGIN:VEVENT
DTSTART:20190726T013000Z
DTEND:20190726T030000Z
X-MICROSOFT-CDO-ALLDAYEVENT:FALSE
SUMMARY:Duckhorn Wine and Cheese Tasting
DESCRIPTION:Immerse yourself in fine wines and delectable bites at our Duckhorn Wine and Cheese tasting event. Excite your palate with an experiential wine and cheese pairing event showcasing Duckhorn wines alongside an array of cheese focused bites. Immerse yourself in best practices of pairing and learn why particular flavors meld nicely with wines from various regions. Featured Wines: Decoy\, Rose\, California Decoy\, Sauvignon Blanc\, Sonoma County Duckhorn\, Chardonnay\, Napa Valley Calera\, Pinot Noir\, Central Coast Duckhorn\, Merlot\, Napa Valley Duckhorn\, Cabernet Sauvignon\, Napa Valley
X-ALT-DESC;FMTTYPE=text/html:Immerse yourself in fine wines and delectable bites at our Duckhorn Wine and Cheese tasting event. Excite your palate with an experiential wine and cheese pairing event showcasing Duckhorn wines alongside an array of cheese focused bites. Immerse yourself in best practices of pairing and learn why particular flavors meld nicely with wines from various regions. Featured Wines: Decoy\, Rose\, California Decoy\, Sauvignon Blanc\, Sonoma County Duckhorn\, Chardonnay\, Napa Valley Calera\, Pinot Noir\, Central Coast Duckhorn\, Merlot\, Napa Valley Duckhorn\, Cabernet Sauvignon\, Napa Valley
LOCATION:Fleming's Prime Steakhouse and Wine Bar
UID:e.1561.36795
SEQUENCE:3
DTSTAMP:20260422T230545Z
URL:https://business.chandlerchamber.com/events/details/duckhorn-wine-and-cheese-tasting-36795
END:VEVENT

END:VCALENDAR
