BEGIN:VCALENDAR
VERSION:2.0
PRODID:-//ChamberMaster//Event Calendar 2.0//EN
METHOD:PUBLISH
X-PUBLISHED-TTL:P3D
REFRESH-INTERVAL:P3D
CALSCALE:GREGORIAN
BEGIN:VEVENT
DTSTART:20180217T170000Z
DTEND:20180217T220000Z
X-MICROSOFT-CDO-ALLDAYEVENT:FALSE
SUMMARY:Earnhardt Auto Centers
DESCRIPTION:PACC911 and Earnhardt Auto Centers Pet Adoptathon
X-ALT-DESC;FMTTYPE=text/html:PACC911 and Earnhardt Auto Centers Pet Adoptathon
LOCATION:7300 W Orchid Lane\, Chandler\, 85226
UID:e.1561.20936
SEQUENCE:3
DTSTAMP:20260423T232835Z
URL:https://business.chandlerchamber.com/events/details/earnhardt-auto-centers-20936
END:VEVENT

END:VCALENDAR
