BEGIN:VCALENDAR
VERSION:2.0
PRODID:-//ChamberMaster//Event Calendar 2.0//EN
METHOD:PUBLISH
X-PUBLISHED-TTL:P3D
REFRESH-INTERVAL:P3D
CALSCALE:GREGORIAN
BEGIN:VEVENT
DTSTART:20200222T160000Z
DTEND:20200222T190000Z
X-MICROSOFT-CDO-ALLDAYEVENT:FALSE
SUMMARY:East Valley Action Children's Business Fair
DESCRIPTION:
X-ALT-DESC;FMTTYPE=text/html:
LOCATION:Dr. A.J Chandler Park East
UID:e.1561.38876
SEQUENCE:3
DTSTAMP:20260420T152352Z
URL:https://business.chandlerchamber.com/events/details/east-valley-action-children-s-business-fair-38876
END:VEVENT

END:VCALENDAR
