BEGIN:VCALENDAR
VERSION:2.0
PRODID:-//ChamberMaster//Event Calendar 2.0//EN
METHOD:PUBLISH
X-PUBLISHED-TTL:P3D
REFRESH-INTERVAL:P3D
CALSCALE:GREGORIAN
BEGIN:VEVENT
DTSTART:20171103T230000Z
DTEND:20171104T030000Z
X-MICROSOFT-CDO-ALLDAYEVENT:FALSE
SUMMARY:East Valley Homeowner Expo
DESCRIPTION:Don't miss this awesome event with over 28 Vendors\, Giveaways\, Live Music\, and More at this free expo!
X-ALT-DESC;FMTTYPE=text/html:Don&rsquo\;t miss this awesome event with over 28 Vendors\, Giveaways\, Live Music\, and More at this free expo!
LOCATION:The Forum 2301 S. Stearman Dr. Chandler\, AZ 85286
UID:e.1561.19198
SEQUENCE:3
DTSTAMP:20260424T022251Z
URL:https://business.chandlerchamber.com/events/details/east-valley-homeowner-expo-19198
END:VEVENT

END:VCALENDAR
