BEGIN:VCALENDAR
VERSION:2.0
PRODID:-//ChamberMaster//Event Calendar 2.0//EN
METHOD:PUBLISH
X-PUBLISHED-TTL:P3D
REFRESH-INTERVAL:P3D
CALSCALE:GREGORIAN
BEGIN:VEVENT
DTSTART:20190327T144500Z
DTEND:20190327T160000Z
X-MICROSOFT-CDO-ALLDAYEVENT:FALSE
SUMMARY:East Valley Mayors' Prayer Breakfast
DESCRIPTION:Join us for a morning of inspiration\, reflection and collaboration with business and community leaders. Faith leaders from across the East Valley will lead us in prayer\, and our featured speakers will share their personal stories of community leadership and involvement.
X-ALT-DESC;FMTTYPE=text/html:Join us for a morning of inspiration\, reflection and collaboration with business and community leaders. Faith leaders from across the East Valley will lead us in prayer\, and our featured speakers will share their personal stories of community leadership and involvement.
LOCATION:Gilbert Town Hall Lawn 50 E. Civic Center Drive Gilbert\, AZ 85295
UID:e.1561.36623
SEQUENCE:3
DTSTAMP:20260423T045341Z
URL:https://business.chandlerchamber.com/events/details/east-valley-mayors-prayer-breakfast-36623
END:VEVENT

END:VCALENDAR
