BEGIN:VCALENDAR
VERSION:2.0
PRODID:-//ChamberMaster//Event Calendar 2.0//EN
METHOD:PUBLISH
X-PUBLISHED-TTL:P3D
REFRESH-INTERVAL:P3D
CALSCALE:GREGORIAN
BEGIN:VEVENT
DTSTART:20190502T190000Z
DTEND:20190503T010000Z
X-MICROSOFT-CDO-ALLDAYEVENT:FALSE
SUMMARY:East Valley Yom Hashoah Commemoration
DESCRIPTION:Center for Holocaust Education and Human Dignity of the East Valley Jewish Community Center - East Valley Yom Hashoah Commemoration
X-ALT-DESC;FMTTYPE=text/html:Center for Holocaust Education and Human Dignity of the East Valley Jewish Community Center - East Valley Yom Hashoah Commemoration
LOCATION:East Valley JCC 908 N Alma School Rd Chandler AZ 85224
UID:e.1561.36651
SEQUENCE:3
DTSTAMP:20260423T021217Z
URL:https://business.chandlerchamber.com/events/details/east-valley-yom-hashoah-commemoration-36651
END:VEVENT

END:VCALENDAR
