BEGIN:VCALENDAR
VERSION:2.0
PRODID:-//ChamberMaster//Event Calendar 2.0//EN
METHOD:PUBLISH
X-PUBLISHED-TTL:P3D
REFRESH-INTERVAL:P3D
CALSCALE:GREGORIAN
BEGIN:VEVENT
DTSTART:20180425T183000Z
DTEND:20180425T200000Z
X-MICROSOFT-CDO-ALLDAYEVENT:FALSE
SUMMARY:Economic Update Series Luncheon
DESCRIPTION:Cyber Security - Is your business safe?\n\nJoin us for the next Chandler Chamber Economic Update Luncheon.  Learn about Cyber Security with experts from Intel and PayPal\, two of the leading innovators in computing technology. \n\nThere are some very exciting projects in Chandler's future\, learn about new and current projects in the City of Chandler!
X-ALT-DESC;FMTTYPE=text/html:<p>Cyber Security - Is your business safe?<br />\n<span style="font-variant-numeric: normal\; font-variant-east-asian: normal\; background-color: transparent\; cursor: text\; line-height: 20.8px\;">Join us for the next Chandler Chamber Economic Update Luncheon.&nbsp\; Learn about Cyber Security with experts from Intel and PayPal\, two of the leading innovators in computing technology.&nbsp\;</span><br style="font-variant-numeric: normal\; font-variant-east-asian: normal\; background-color: transparent\; cursor: text\; line-height: 20.8px\; margin: 0px\;" />\n<span style="font-variant-numeric: normal\; font-variant-east-asian: normal\; background-color: transparent\; cursor: text\; line-height: 20.8px\;">There are some very exciting projects in Chandler&#39\;s future\, learn&nbsp\;about new and current projects in the City of Chandler!</span></p>\n\n<p>&nbsp\;</p>\n
LOCATION:Ocotillo Golf Club 3751 S Clubhouse Drive\, Chandler\, AZ 85248
UID:e.1561.20513
SEQUENCE:3
DTSTAMP:20260423T210242Z
URL:https://business.chandlerchamber.com/events/details/economic-update-series-luncheon-20513
END:VEVENT

END:VCALENDAR
