BEGIN:VCALENDAR
VERSION:2.0
PRODID:-//ChamberMaster//Event Calendar 2.0//EN
METHOD:PUBLISH
X-PUBLISHED-TTL:P3D
REFRESH-INTERVAL:P3D
CALSCALE:GREGORIAN
BEGIN:VEVENT
DTSTART:20190501T183000Z
DTEND:20190501T200000Z
X-MICROSOFT-CDO-ALLDAYEVENT:FALSE
SUMMARY:Economic Update Series Luncheon
DESCRIPTION:Sporting Events and the Economic Impact on the Valley\n\n\n\nSuper Bowls to soccer tournaments\, sporting events have a major impact on our economy.  These events generate visitors' spending\, public spending\, employment opportunities and tax revenue.  Learn about the trends with speakers Mike Iaquinta\, Director of Business Development for Arizona\n\nCardinals\, Ben Stewart with the Arizona Office of Tourism and Brad Cesmat\, CEO of Sports360AZ and host on Fox Sports Arizona
X-ALT-DESC;FMTTYPE=text/html:<span style="font-size:14px\;"><strong><span style="font-family:calibri\;">Sporting Events and the Economic Impact on the Valley</span></strong></span><br />\n<br />\n<strong><span style="font-size:11pt\;"><span style="font-family:calibri\,sans-serif\;">Super Bowls to soccer tournaments\, sporting events have a major impact on our economy. &nbsp\;These events generate visitors&rsquo\; spending\, public spending\, employment opportunities and tax revenue.&nbsp\; Learn about the trends with speakers Mike Iaquinta\, Director of Business Development for Arizona<br />\nCardinals\, Ben Stewart with the Arizona Office of Tourism and Brad Cesmat\, CEO of Sports360AZ and host on Fox Sports Arizona&nbsp\;</span></span></strong>
LOCATION:Avion Center 1733 E Northrop Blvd Chandler\, AZ 85286
UID:e.1561.36639
SEQUENCE:3
DTSTAMP:20260423T033109Z
URL:https://business.chandlerchamber.com/events/details/economic-update-series-luncheon-36639
END:VEVENT

END:VCALENDAR
