BEGIN:VCALENDAR
VERSION:2.0
PRODID:-//ChamberMaster//Event Calendar 2.0//EN
METHOD:PUBLISH
X-PUBLISHED-TTL:P3D
REFRESH-INTERVAL:P3D
CALSCALE:GREGORIAN
BEGIN:VEVENT
DTSTART:20200205T183000Z
DTEND:20200205T200000Z
X-MICROSOFT-CDO-ALLDAYEVENT:FALSE
SUMMARY:Economic Update Series Luncheon
DESCRIPTION:Join us as we feature a panel of "Leaders of Change" addressing the progressive efforts of their various industries. \n\n\n\nExplore the current and future innovations of Chandler-based companies that have transformed our lives and skyrocketed our community of innovation into the future through technology\, and real estate.\n\nFeatured will be:\n\nZovio\n\nOfferpad\n\nIntel will present their Economic Impact Study.\n\nLearn about current and future projects in Chandler.
X-ALT-DESC;FMTTYPE=text/html:<p><span style="font-size:14px\;"><span style="font-family:tahoma\;"><strong>Join us as we feature a panel of &quot\;Leaders of Change&quot\; addressing the progressive efforts of their various industries.&nbsp\;</strong><br />\n<br />\n<span style="font-weight:bold\;language:en-US\;">Explore the current and future innovations of Chandler-based companies that have&nbsp\;transformed our lives and skyrocketed our community of innovation into the future through technology\, and real estate.<br />\nFeatured will be:<br />\nZovio</span></span></span></p>\n\n<p><span style="font-size:14px\;"><span style="font-family:tahoma\;"><span style="font-weight:bold\;language:en-US\;">Offerpad</span></span></span></p>\n\n<p><font face="tahoma"><span style="font-size: 14px\;"><b>Intel will present their Economic Impact Study.</b></span></font></p>\n\n<p><span style="font-size:14px\;"><span style="font-family:tahoma\;"><span style="font-weight:bold\;language:en-US\;">Learn about current and&nbsp\;future projects in Chandler.</span></span></span><br />\n&nbsp\;<br />\n&nbsp\;</p>\n
LOCATION:Flix Brewhouse 1 W Chandler Blvd Chandler\, AZ 85225
UID:e.1561.38787
SEQUENCE:3
DTSTAMP:20260420T150333Z
URL:https://business.chandlerchamber.com/events/details/economic-update-series-luncheon-38787
END:VEVENT

END:VCALENDAR
