BEGIN:VCALENDAR
VERSION:2.0
PRODID:-//ChamberMaster//Event Calendar 2.0//EN
METHOD:PUBLISH
X-PUBLISHED-TTL:P3D
REFRESH-INTERVAL:P3D
CALSCALE:GREGORIAN
BEGIN:VEVENT
DTSTART:20150422T183000Z
DTEND:20150422T200000Z
X-MICROSOFT-CDO-ALLDAYEVENT:FALSE
SUMMARY:Economic Update Series Luncheon - April 2015
DESCRIPTION:Join us for our Economic Update Luncheon where we welcome guest speakers from the community speaking to our audience on the economic forecast. You won't want to miss out on this opportunity to be the first in the know! The speakers will be Micah Miranda\, City of Chandler Economic Development Director\, Brad Smidt\, Vice President of Business Development\, GPEC\, Kevin Sullivan\, Senior Vice President of Business Attraction and Expansion\, Arizona Commerce Authority and Carlos Contreras\, Arizona Public Affairs Manager\, Intel.
X-ALT-DESC;FMTTYPE=text/html:<span style="font-family: calibri\,sans-serif\;"><span style="font-size: 11pt\;">Join us for our Economic Update Luncheon&nbsp\;where we welcome guest speakers from the community speaking to our audience on the economic forecast. You won&rsquo\;t want to miss out on this opportunity to be the first in the know!&nbsp\;The speakers will be Micah Miranda\, City of Chandler Economic Development Director\, Brad Smidt\, Vice President of Business Development\, GPEC\, Kevin Sullivan\, Senior Vice President of Business Attraction and Expansion\, Arizona Commerce Authority and Carlos Contreras\, Arizona Public Affairs Manager\, Intel.</span></span>
LOCATION:Crowne Plaza San Marcos Golf Resort One San Marcos Place Chandler\, AZ 85225 *Downtown Chandler
UID:e.1561.12478
SEQUENCE:3
DTSTAMP:20260425T213307Z
URL:https://business.chandlerchamber.com/events/details/economic-update-series-luncheon-april-2015-04-22-2015-12478
END:VEVENT

END:VCALENDAR
