BEGIN:VCALENDAR
VERSION:2.0
PRODID:-//ChamberMaster//Event Calendar 2.0//EN
METHOD:PUBLISH
X-PUBLISHED-TTL:P3D
REFRESH-INTERVAL:P3D
CALSCALE:GREGORIAN
BEGIN:VEVENT
DTSTART:20150204T183000Z
DTEND:20150204T200000Z
X-MICROSOFT-CDO-ALLDAYEVENT:FALSE
SUMMARY:Economic Update Series Luncheon - February 2015
DESCRIPTION:Join us for our Economic Update Luncheon where we welcome guest speakers from the community speaking to our audience on the economic forecast. You wont want to miss out on this opportunity to be the first in the know!\n\n\n      Pete Wentis from CBRE Global Research will be presenting on "Southeast Valley Industrial and Office Market Update." CBRE Global Research and Consulting team prepares quarterly market reports.  The 4Q2015 reports will be hot off the press so his presentation will be very timely .Kim Moyers from the City of Chandler will be giving an update on the City
X-ALT-DESC;FMTTYPE=text/html:<div style="text-align: center\; line-height: 20.79px\;">Join us for our Economic Update Luncheon&nbsp\;where we welcome guest speakers from the community speaking to our audience on the economic forecast. You wont want to miss out on this opportunity to be the first in the know!</div>\n<br style="line-height: 20.79px\;" />\n&nbsp\;&nbsp\;&nbsp\;&nbsp\;&nbsp\;&nbsp\;<strong><span style="font-family: calibri\,sans-serif\;"><span style="font-size: 11pt\;">Pete Wentis from CBRE Global Research</span></span></strong><span style="font-family: calibri\,sans-serif\;"><span style="font-size: 11pt\;"> will be presenting on <em>&ldquo\;Southeast Valley Industrial and Office Market Update.&rdquo\;</em> CBRE Global Research and Consulting team prepares quarterly market reports.&nbsp\; The 4Q2015 reports will be hot off the press so his presentation will be very timely .Kim&nbsp\;Moyers&nbsp\;from the City of Chandler will be giving an update on the City</span></span>
LOCATION:Crowne Plaza San Marcos Golf Resort One San Marcos Place Chandler\, AZ 85225
UID:e.1561.11928
SEQUENCE:3
DTSTAMP:20260426T003154Z
URL:https://business.chandlerchamber.com/events/details/economic-update-series-luncheon-february-2015-02-04-2015-11928
END:VEVENT

END:VCALENDAR
