BEGIN:VCALENDAR
VERSION:2.0
PRODID:-//ChamberMaster//Event Calendar 2.0//EN
METHOD:PUBLISH
X-PUBLISHED-TTL:P3D
REFRESH-INTERVAL:P3D
CALSCALE:GREGORIAN
BEGIN:VEVENT
DTSTART:20150923T183000Z
DTEND:20150923T200000Z
X-MICROSOFT-CDO-ALLDAYEVENT:FALSE
SUMMARY:Economic Update Series Luncheon - September 2015
DESCRIPTION:Join us for the last Economic Update Luncheon of 2015.\n\n\n\nThis quarter's speakers will be speaking about the importance of airports as an economic development tool. We will have speakers from Sky Harbor Airport\, Phoenix-Mesa Gateway Airport\, Chandler Municipal Airport and Southwest Airlines.\n\nAlso\, be the first to know about new projects in Chandler and the downtown area.\n\n\n\nSpeakers:\n\nMike Sikes: Southwest Airlines\n\nMichael Merk: Phoenix-Mesa Gateway Airport\n\nJulie Rodriguez: Sky Harbor Airport\n\nChris Andres: Chandler Municipal Airport
X-ALT-DESC;FMTTYPE=text/html:<span style="font-family:calibri\,sans-serif\;"><span style="font-size:11.0pt\;">Join us for the last Economic Update Luncheon of 2015.<br />\n<br />\nThis quarter&#39\;s speakers will be speaking about the importance of airports as an economic development tool. We will have speakers from&nbsp\;Sky Harbor Airport\, Phoenix-Mesa Gateway Airport\, Chandler Municipal Airport and Southwest Airlines.<br />\nAlso\, be the first to know about new projects in Chandler and the downtown area.<br />\n<br />\nSpeakers:</span><br />\n<span style="font-family:arial\;"><span style="font-size:12px\;">Mike Sikes: Southwest Airlines</span></span></span><br />\n<span style="font-family:arial\;"><span style="font-size:12px\;">Michael Merk: Phoenix-Mesa Gateway Airport<br />\nJulie Rodriguez: Sky Harbor Airport<br />\nChris Andres: Chandler Municipal Airport</span></span><br />\n&nbsp\;
LOCATION:Crowne Plaza San Marcos Resort One San Marcos Place Chandler\, AZ 85225
UID:e.1561.12480
SEQUENCE:3
DTSTAMP:20260425T165959Z
URL:https://business.chandlerchamber.com/events/details/economic-update-series-luncheon-september-2015-09-23-2015-12480
END:VEVENT

END:VCALENDAR
