BEGIN:VCALENDAR
VERSION:2.0
PRODID:-//ChamberMaster//Event Calendar 2.0//EN
METHOD:PUBLISH
X-PUBLISHED-TTL:P3D
REFRESH-INTERVAL:P3D
CALSCALE:GREGORIAN
BEGIN:VEVENT
DTSTART:20170927T183000Z
DTEND:20170927T200000Z
X-MICROSOFT-CDO-ALLDAYEVENT:FALSE
SUMMARY:Economic Update Series Luncheon - September 2017
DESCRIPTION:Join us for the next Chandler Chamber Economic Update Luncheon.  Be the first to know about the new projects in Chandler.\n\nExplore the world of autonomous vehicles and their impact on the Valley.
X-ALT-DESC;FMTTYPE=text/html:<p>Join us for the next Chandler Chamber Economic Update Luncheon. &nbsp\;Be the first to know about the new projects in Chandler.</p>\n\n<p>Explore the world of autonomous vehicles and their impact on the Valley.</p>\n
LOCATION:Noah's Event Venue 2100 E Yeager Dr Chandler\, AZ 85286
UID:e.1561.19105
SEQUENCE:3
DTSTAMP:20260424T063721Z
URL:https://business.chandlerchamber.com/events/details/economic-update-series-luncheon-september-2017-19105
END:VEVENT

END:VCALENDAR
