BEGIN:VCALENDAR
VERSION:2.0
PRODID:-//ChamberMaster//Event Calendar 2.0//EN
METHOD:PUBLISH
X-PUBLISHED-TTL:P3D
REFRESH-INTERVAL:P3D
CALSCALE:GREGORIAN
BEGIN:VEVENT
DTSTART:20241002T180000Z
DTEND:20241002T200000Z
X-MICROSOFT-CDO-ALLDAYEVENT:FALSE
SUMMARY:ECONOMIC UPDATE: What's New at Arizona's Airports
DESCRIPTION:What's New at Arizona's Airports\n\nYour last Amazon package flew on an airplane. That big work conference\, surprising your Great Aunt for the holidays - none of that would be possible without Arizona's strong airport system.\n\nMeet Sky Harbor\, Southwest Airlines\, Phoenix-Mesa Gateway\, & Chandler Municipal Airport at our next Economic Update luncheon\, where you'll get a behind-the-scenes look at these economic driver's newest & upcoming projects.\n\nFeaturing the following speakers:\n\n\n	Harold Page (Southwest Airlines)\n	Ryan Reeves (Chandler Municipal Airport)\n	Ryan Smith (Phoenix-Mesa Gateway Airport)\n	Lexie Van Haren (Phoenix Sky Harbor International Airport)
X-ALT-DESC;FMTTYPE=text/html:<p><span style="color:#000000\;"><span style="font-size:18px\;"><span style="font-family:arial\;"><strong>What&#39\;s New at Arizona&#39\;s Airports</strong></span></span></span></p>\n\n<p><span style="color:#000000\;"><span style="font-size:16px\;"><span style="font-family:arial\;">Your last Amazon package flew on an airplane. That big work conference\, surprising your Great Aunt for the holidays - none of that would be possible without Arizona&#39\;s strong airport system.</span></span></span></p>\n\n<p><span style="color:#000000\;"><span style="font-size:16px\;"><span style="font-family:arial\;">Meet Sky Harbor\, Southwest Airlines\, Phoenix-Mesa Gateway\, &amp\; Chandler Municipal Airport at our next Economic Update luncheon\, where you&rsquo\;ll get a behind-the-scenes look at these economic driver&rsquo\;s newest &amp\; upcoming projects.</span></span></span></p>\n\n<p><span style="color:#000000\;"><span style="font-size:16px\;"><span style="font-family:arial\;"><strong>Featuring the following speakers:</strong></span></span></span></p>\n\n<ul>\n	<li><span style="color:#000000\;"><span style="font-size:16px\;"><span style="font-family:arial\;"><strong>Harold Page</strong>&nbsp\;(Southwest Airlines)</span></span></span></li>\n	<li><span style="color:#000000\;"><span style="font-size:16px\;"><span style="font-family:arial\;"><strong>Ryan Reeves</strong>&nbsp\;(Chandler Municipal Airport)</span></span></span></li>\n	<li><span style="color:#000000\;"><span style="font-size:16px\;"><span style="font-family:arial\;"><strong>Ryan Smith</strong>&nbsp\;(Phoenix-Mesa Gateway Airport)</span></span></span></li>\n	<li><span style="color:#000000\;"><span style="font-size:16px\;"><span style="font-family:arial\;"><strong>Lexie Van Haren</strong>&nbsp\;(Phoenix Sky Harbor International Airport)</span></span></span><span style="font-size:16px\;"><span style="color:#000000\;"><span style="font-family:arial\;"><!-- notionvc: 52d81030-3b51-4f05-a847-5c511836e825 --></span></span></span><!-- notionvc: 68b9abc9-23eb-40ce-a0a7-4a44cac38b05 --></li>\n</ul>\n<!-- notionvc: 77281f7d-947d-4938-b993-7cc4e4e08eb3 -->
LOCATION:Andretti Indoor Karting & Games 1712 S Cooper Rd Chandler\, AZ 85286
UID:e.1561.50103
SEQUENCE:3
DTSTAMP:20260420T070723Z
URL:https://business.chandlerchamber.com/events/details/economic-update-what-s-new-at-arizona-s-airports-50103
END:VEVENT

END:VCALENDAR
