BEGIN:VCALENDAR
VERSION:2.0
PRODID:-//ChamberMaster//Event Calendar 2.0//EN
METHOD:PUBLISH
X-PUBLISHED-TTL:P3D
REFRESH-INTERVAL:P3D
CALSCALE:GREGORIAN
BEGIN:VEVENT
DTSTART:20171109T143000Z
DTEND:20171109T163000Z
X-MICROSOFT-CDO-ALLDAYEVENT:FALSE
SUMMARY:Education Forum - November 9\, 2017
DESCRIPTION:The Chandler Chamber Education Forum Takes a look at the future of Chandler's workforce.  We bring business and education together to work in tandem for the best possible labor force for our future.\n\n- Join us when the Chandler Chamber Education and Workforce Development Coalition rolls out a revolutionary tool to help students\, employers and the community with career choices.\n\n- Our expert panel of professionals answer the tough questions
X-ALT-DESC;FMTTYPE=text/html:<p>The Chandler Chamber Education Forum Takes a look at the future of Chandler&#39\;s workforce.&nbsp\; We bring business and education together to work in tandem for the best possible labor force for our future.</p>\n\n<p>- Join us when the Chandler Chamber Education and Workforce Development Coalition rolls out a revolutionary tool to help students\, employers and the community with career choices.<br />\n- Our expert panel of professionals answer&nbsp\;the tough questions</p>\n
LOCATION:Chandler Center for the Arts 250 N Arizona Ave Chandler\, AZ 85225
UID:e.1561.19185
SEQUENCE:3
DTSTAMP:20260424T022015Z
URL:https://business.chandlerchamber.com/events/details/education-forum-november-9-2017-19185
END:VEVENT

END:VCALENDAR
