BEGIN:VCALENDAR
VERSION:2.0
PRODID:-//ChamberMaster//Event Calendar 2.0//EN
METHOD:PUBLISH
X-PUBLISHED-TTL:P3D
REFRESH-INTERVAL:P3D
CALSCALE:GREGORIAN
BEGIN:VEVENT
DTSTART:20190722T223000Z
DTEND:20190723T000000Z
X-MICROSOFT-CDO-ALLDAYEVENT:FALSE
SUMMARY:Education & Workforce Development Coalition Meeting
DESCRIPTION:Education & Workforce Development Coalition Meeting
X-ALT-DESC;FMTTYPE=text/html:Education &amp\; Workforce Development Coalition Meeting
LOCATION:Chandler Chamber of Commerce 25 S Arizona Place\, Suite 201 Chandler\, AZ 85225
UID:e.1561.36297
SEQUENCE:3
DTSTAMP:20260422T230432Z
URL:https://business.chandlerchamber.com/events/details/education-workforce-development-coalition-meeting-07-22-2019-36297
END:VEVENT

END:VCALENDAR
