BEGIN:VCALENDAR
VERSION:2.0
PRODID:-//ChamberMaster//Event Calendar 2.0//EN
METHOD:PUBLISH
X-PUBLISHED-TTL:P3D
REFRESH-INTERVAL:P3D
CALSCALE:GREGORIAN
BEGIN:VEVENT
DTSTART:20190515T150000Z
DTEND:20190515T163000Z
X-MICROSOFT-CDO-ALLDAYEVENT:FALSE
SUMMARY:Education & Workforce Development Roundtable
DESCRIPTION:The Chandler Chamber of Commerce is a champion of education policy through its efforts in supporting student success outcomes\, offering scholarships and enacting workforce development strategies that better prepare workers to compete in the global economy. This series of roundtable discussions will focus on the crucial link between the business community of today and the workforce of tomorrow. \n\n\n\nPlease join us in May\, where our featured panelists will address Best Practices for Integrating & Training New Employees to Succeed in Business.
X-ALT-DESC;FMTTYPE=text/html:<span style="font-size:14px\;"><span style="font-family:tahoma\,sans-serif\;">The Chandler Chamber of Commerce is a champion of education policy through its efforts in supporting student success outcomes\, offering scholarships and enacting workforce development strategies that better prepare workers to compete in the global economy.&nbsp\;</span>This series of roundtable discussions will focus on the crucial link between the business community of today and the workforce of tomorrow.&nbsp\;<br />\n<br />\nPlease join us in May\, where our featured panelists will address Best Practices for Integrating &amp\; Training New Employees to Succeed in Business.&nbsp\;</span>
LOCATION:Chandler Chamber of Commerce 25 S. Arizona Place.\, Suite 201 Chandler\, AZ 85225
UID:e.1561.36659
SEQUENCE:3
DTSTAMP:20260423T125729Z
URL:https://business.chandlerchamber.com/events/details/education-workforce-development-roundtable-36659
END:VEVENT

END:VCALENDAR
