BEGIN:VCALENDAR
VERSION:2.0
PRODID:-//ChamberMaster//Event Calendar 2.0//EN
METHOD:PUBLISH
X-PUBLISHED-TTL:P3D
REFRESH-INTERVAL:P3D
CALSCALE:GREGORIAN
BEGIN:VEVENT
DTSTART:20180511T150000Z
DTEND:20180511T233000Z
X-MICROSOFT-CDO-ALLDAYEVENT:FALSE
SUMMARY:Employment Law Update Conference
DESCRIPTION:Our Employment Law Update covers the most significant employment law developments of the year by stripping away the legalese and providing you with practical\, timely and critical advice to minimize employment law liability. Each year\, the agenda is carefully selected by Employers Council?'s expert employment and labor law attorneys who are in a unique position to recognize important events and developing trends in employment law.
X-ALT-DESC;FMTTYPE=text/html:Our Employment Law Update covers the most significant employment law developments of the year by stripping away the legalese and providing you with practical\, timely and critical advice to minimize employment law liability. Each year\, the agenda is carefully selected by Employers Council?&rsquo\;s expert employment and labor law attorneys who are in a unique position to recognize important events and developing trends in employment law.
LOCATION:The Phoenix Marriott Tempe At the Buttes\, 2000 W Westcourt Way\, Tempe\, AZ 85282-1005
UID:e.1561.32577
SEQUENCE:3
DTSTAMP:20260423T180651Z
URL:https://business.chandlerchamber.com/events/details/employment-law-update-conference-32577
END:VEVENT

END:VCALENDAR
