BEGIN:VCALENDAR
VERSION:2.0
PRODID:-//ChamberMaster//Event Calendar 2.0//EN
METHOD:PUBLISH
X-PUBLISHED-TTL:P3D
REFRESH-INTERVAL:P3D
CALSCALE:GREGORIAN
BEGIN:VEVENT
DTSTART:20170620T150000Z
DTEND:20170620T160000Z
X-MICROSOFT-CDO-ALLDAYEVENT:FALSE
SUMMARY:Energy & Utilities - Movers\, Shakers\, Policy Makers
DESCRIPTION:Chandler Chamber Members only.\n\nLet your voice be heard. Join the Chandler Chamber to provide your input on the Chambers 2018 legislative priorities. \n\nTopic: Energy & Utilities
X-ALT-DESC;FMTTYPE=text/html:<span style="color:#FF0000\;"><span style="font-size: 16px\;">Chandler Chamber Members only.</span></span><br />\n<span style="color: rgb(0\, 0\, 0)\;"><span style="font-size: 16px\;">Let your voice be heard. Join the Chandler Chamber to provide your input on the Chambers 2018 legislative priorities.&nbsp\;<br />\nTopic: Energy &amp\; Utilities&nbsp\;</span></span>
LOCATION:Chandler Chamber of Commerce 25 S Arizona Place\, Ste 201 Chandler\, AZ 85225
UID:e.1561.19033
SEQUENCE:3
DTSTAMP:20260424T093019Z
URL:https://business.chandlerchamber.com/events/details/energy-utilities-movers-shakers-policy-makers-19033
END:VEVENT

END:VCALENDAR
