BEGIN:VCALENDAR
VERSION:2.0
PRODID:-//ChamberMaster//Event Calendar 2.0//EN
METHOD:PUBLISH
X-PUBLISHED-TTL:P3D
REFRESH-INTERVAL:P3D
CALSCALE:GREGORIAN
BEGIN:VEVENT
DTSTART:20180805T200000Z
DTEND:20180806T000000Z
X-MICROSOFT-CDO-ALLDAYEVENT:FALSE
SUMMARY:Epic BBQ Fundraiser for Fallen DPS Trooper
DESCRIPTION:BBQ Fundraiser at the American Legion in Chandler to benefit DPS Trooper Tyler Edenhofer's family & the 100 Club of Phoenix. Sponsors are West Alley BBQ and PURO.
X-ALT-DESC;FMTTYPE=text/html:BBQ Fundraiser at the American Legion in Chandler to benefit DPS Trooper Tyler Edenhofer&#39\;s family &amp\; the 100 Club of Phoenix. Sponsors are West Alley BBQ and PURO.
LOCATION:American Legion Post 91 922 N. Alma School Road\, Chandler
UID:e.1561.33929
SEQUENCE:3
DTSTAMP:20260423T135430Z
URL:https://business.chandlerchamber.com/events/details/epic-bbq-fundraiser-for-fallen-dps-trooper-33929
END:VEVENT

END:VCALENDAR
