BEGIN:VCALENDAR
VERSION:2.0
PRODID:-//ChamberMaster//Event Calendar 2.0//EN
METHOD:PUBLISH
X-PUBLISHED-TTL:P3D
REFRESH-INTERVAL:P3D
CALSCALE:GREGORIAN
BEGIN:VEVENT
DTSTART:20180131T160000Z
DTEND:20180131T173000Z
X-MICROSOFT-CDO-ALLDAYEVENT:FALSE
SUMMARY:Essential Business Technology Planning For 2018
DESCRIPTION:During this event\, we discuss emerging technology changes that will impact your organization in 2018 and beyond. For more info go here: https://www.itdrsolutions.com/event/essential-business-technology-planning-2018/
X-ALT-DESC;FMTTYPE=text/html:During this event\, we discuss emerging technology changes that will impact your organization in 2018 and beyond. For more info go here: https://www.itdrsolutions.com/event/essential-business-technology-planning-2018/
LOCATION:Graciously hosted at the Chandler Chamber of Commerce
UID:e.1561.20906
SEQUENCE:3
DTSTAMP:20260423T233002Z
URL:https://business.chandlerchamber.com/events/details/essential-business-technology-planning-for-2018-20906
END:VEVENT

END:VCALENDAR
