BEGIN:VCALENDAR
VERSION:2.0
PRODID:-//ChamberMaster//Event Calendar 2.0//EN
METHOD:PUBLISH
X-PUBLISHED-TTL:P3D
REFRESH-INTERVAL:P3D
CALSCALE:GREGORIAN
BEGIN:VEVENT
DTSTART:20170621T180000Z
DTEND:20170621T200000Z
X-MICROSOFT-CDO-ALLDAYEVENT:FALSE
SUMMARY:ESTATE MONEY OPPORTUNITIES FOR NONPROFITS
DESCRIPTION:Has your nonprofit ever been a beneficiary of Estate funds? Some Estate planners are "nonprofit friendly". They encourage their clients to leave "their legacy" by leaving something to their favorite charity. Sometimes they love the idea\, but ask the estate planner: Do you know of any "good charities?" Ones that "really help people" and "make a difference?" Leave with: ? A beginner's understanding of "nonprofit friendly" estate planning. ? Resources/tips on finding these estate planners. ? General information on getting involved with an estate planner
X-ALT-DESC;FMTTYPE=text/html:Has your nonprofit ever been a beneficiary of Estate funds? Some Estate planners are &ldquo\;nonprofit friendly&rdquo\;. They encourage their clients to leave &ldquo\;their legacy&rdquo\; by leaving something to their favorite charity. Sometimes they love the idea\, but ask the estate planner: Do you know of any &ldquo\;good charities?&rdquo\; Ones that &ldquo\;really help people&rdquo\; and &ldquo\;make a difference?&rdquo\; Leave with: ? A beginner&rsquo\;s understanding of &ldquo\;nonprofit friendly&rdquo\; estate planning. ? Resources/tips on finding these estate planners. ? General information on getting involved with an estate planner
LOCATION:Chandler Police substation\, 251 Desert Breeze Blvd\, Chandler\, AZ 85226. The station is just off of Chandler Blvd between Rural Rd and McClintock. There is a traffic light at Desert Breeze Blvd. Go north on Desert Breeze\, Police/Fire station will be on your right. Look for the "Collaborating for a Cause" sign at the public parking entrance. Contact phone: 480-861-5185
UID:e.1561.19063
SEQUENCE:3
DTSTAMP:20260424T093555Z
URL:https://business.chandlerchamber.com/events/details/estate-money-opportunities-for-nonprofits-19063
END:VEVENT

END:VCALENDAR
