BEGIN:VCALENDAR
VERSION:2.0
PRODID:-//ChamberMaster//Event Calendar 2.0//EN
METHOD:PUBLISH
X-PUBLISHED-TTL:P3D
REFRESH-INTERVAL:P3D
CALSCALE:GREGORIAN
BEGIN:VEVENT
DTSTART:20230412T010000Z
DTEND:20230412T030000Z
X-MICROSOFT-CDO-ALLDAYEVENT:FALSE
SUMMARY:Estate Planning Dinner and Workshop
DESCRIPTION:Keystone Law Firm is having a Estate Planning Dinner and Workshop
X-ALT-DESC;FMTTYPE=text/html:Keystone Law Firm is having a Estate Planning Dinner and Workshop
LOCATION:The Keg Chandler 3065 W Chandler Blvd Chandler\, AZ 85226
UID:e.1561.44642
SEQUENCE:3
DTSTAMP:20260421T122532Z
URL:https://business.chandlerchamber.com/events/details/estate-planning-dinner-and-workshop-44642
END:VEVENT

END:VCALENDAR
