BEGIN:VCALENDAR
VERSION:2.0
PRODID:-//ChamberMaster//Event Calendar 2.0//EN
METHOD:PUBLISH
X-PUBLISHED-TTL:P3D
REFRESH-INTERVAL:P3D
CALSCALE:GREGORIAN
BEGIN:VEVENT
DTSTART:20180428T170000Z
DTEND:20180428T180000Z
X-MICROSOFT-CDO-ALLDAYEVENT:FALSE
SUMMARY:Even Stevens Chandler Police vs Fire French Toast Throwdown
DESCRIPTION:On Global Pay it Forward Day we are having a Chandler Police vs Fire French Toast Throwdown! Cheer on your favorite team at the Chandler Even Stevens at 10 am! The actual contest lasts only 5 minutes and starts once the fire fighters and police officers are in their seats and ready to go! Bring a jar of peanut butter to vote for your favorite team! If there is a tie\, the team with the most jars of peanut butter wins! All peanut butter will be donated to AZCEND\, ICAN\, Paz de Cristo and My Sister's Place Domestic Violence Shelter.
X-ALT-DESC;FMTTYPE=text/html:On Global Pay it Forward Day we are having a Chandler Police vs Fire French Toast Throwdown! Cheer on your favorite team at the Chandler Even Stevens at 10 am! The actual contest lasts only 5 minutes and starts once the fire fighters and police officers are in their seats and ready to go! Bring a jar of peanut butter to vote for your favorite team! If there is a tie\, the team with the most jars of peanut butter wins! All peanut butter will be donated to AZCEND\, ICAN\, Paz de Cristo and My Sister&#39\;s Place Domestic Violence Shelter.
LOCATION:Chandler Even Stevens 11 W. Boston St. Chandler\, AZ
UID:e.1561.33649
SEQUENCE:3
DTSTAMP:20260423T193739Z
URL:https://business.chandlerchamber.com/events/details/even-stevens-chandler-police-vs-fire-french-toast-throwdown-33649
END:VEVENT

END:VCALENDAR
