BEGIN:VCALENDAR
VERSION:2.0
PRODID:-//ChamberMaster//Event Calendar 2.0//EN
METHOD:PUBLISH
X-PUBLISHED-TTL:P3D
REFRESH-INTERVAL:P3D
CALSCALE:GREGORIAN
BEGIN:VEVENT
DTSTART:20150819T153000Z
DTEND:20150819T163000Z
X-MICROSOFT-CDO-ALLDAYEVENT:FALSE
SUMMARY:Excellerated HR Presents: HR 101
DESCRIPTION:With 40% of employees leaving within 6 months of hire\, 56% leaving within the first year and 40% of these leaving for the same or less pay\, it is critical to not only find the right employees but have practices in place to keep them. This free series will help you do just that! The Small Business HR 101 monthly sessions will give you critical info on best practices\, pit-falls\, recent legislation and changes in HR and how they impact you as a small business owner and how to foster your unique culture while also meeting compliance requirements. This session will provide a general overview of HR practices needed for small businesses and focus on 1099/Independent Contractor VS Employee and proposed changes to the Exempt/Non-Exempt Rules. Contact Community Development Specialist with questions\, mrs0069cds@microsoft.com.
X-ALT-DESC;FMTTYPE=text/html:With 40% of employees leaving within 6 months of hire\, 56% leaving within the first year and 40% of these leaving for the same or less pay\, it is critical to not only find the right employees but have practices in place to keep them. This free series will help you do just that! The Small Business HR 101 monthly sessions will give you critical info on best practices\, pit-falls\, recent legislation and changes in HR and how they impact you as a small business owner and how to foster your unique culture while also meeting compliance requirements. This session will provide a general overview of HR practices needed for small businesses and focus on 1099/Independent Contractor VS Employee and proposed changes to the Exempt/Non-Exempt Rules. Contact Community Development Specialist with questions\, mrs0069cds@microsoft.com.
LOCATION:Microsoft Chandler Fashion Center Store - 3111 W. Chandler Blvd.\, Chandler\, 85226
UID:e.1561.13144
SEQUENCE:3
DTSTAMP:20260425T200918Z
URL:https://business.chandlerchamber.com/events/details/excellerated-hr-presents-hr-101-08-19-2015-13144
END:VEVENT

END:VCALENDAR
