BEGIN:VCALENDAR
VERSION:2.0
PRODID:-//ChamberMaster//Event Calendar 2.0//EN
METHOD:PUBLISH
X-PUBLISHED-TTL:P3D
REFRESH-INTERVAL:P3D
CALSCALE:GREGORIAN
BEGIN:VEVENT
DTSTART:20200125T180000Z
DTEND:20200125T220000Z
X-MICROSOFT-CDO-ALLDAYEVENT:FALSE
SUMMARY:Exceptional Pets Chandler Grand Opening Event
DESCRIPTION:Join us Saturday\, January 25th and Sunday\, January 26th for the GRAND OPENING of our state of the art veterinary hospital\, salon & spa\, boarding resort\, day camp\, self wash stations\, natural foods and supplies...all providing exceptional care for your pet from head to tail. This family-friendly + pet-friendly weekend offers ALL attendees a free $100 value Goody Bag\, FREE (people) Food\, Beverages\, and Treats\, music\, pet adoptions with AZ R.E.S.C.U.E.\, exclusive day-of offers for EXCEPTIONAL services to save you even more $$$ and much more!
X-ALT-DESC;FMTTYPE=text/html:Join us Saturday\, January 25th and Sunday\, January 26th for the GRAND OPENING of our state of the art veterinary hospital\, salon &amp\; spa\, boarding resort\, day camp\, self wash stations\, natural foods and supplies...all providing exceptional care for your pet from head to tail. This family-friendly + pet-friendly weekend offers ALL attendees a free $100 value Goody Bag\, FREE (people) Food\, Beverages\, and Treats\, music\, pet adoptions with AZ R.E.S.C.U.E.\, exclusive day-of offers for EXCEPTIONAL services to save you even more $$$ and much more!
LOCATION:Exceptional Pets Chandler 2000 W. Ray Road\, Chandler\, AZ\, 85224
UID:e.1561.38794
SEQUENCE:3
DTSTAMP:20260420T151449Z
URL:https://business.chandlerchamber.com/events/details/exceptional-pets-chandler-grand-opening-event-38794
END:VEVENT

END:VCALENDAR
