BEGIN:VCALENDAR
VERSION:2.0
PRODID:-//ChamberMaster//Event Calendar 2.0//EN
METHOD:PUBLISH
X-PUBLISHED-TTL:P3D
REFRESH-INTERVAL:P3D
CALSCALE:GREGORIAN
BEGIN:VEVENT
DTSTART:20200406T160000Z
DTEND:20200406T170000Z
X-MICROSOFT-CDO-ALLDAYEVENT:FALSE
SUMMARY:Exchange Club hosts Field of Hope
DESCRIPTION:The Exchange Club of Chandler will host the annual Field of Hope\, April 6th through April 8th in observance of Child Abuse Prevention Month. The Field this year will have 75 white flags with dark blue ribbons. Each flag represents a child who died of child abuse or neglect in Arizona in 2019.
X-ALT-DESC;FMTTYPE=text/html:The Exchange Club of Chandler will host the annual Field of Hope\, April 6th through April 8th in observance of Child Abuse Prevention Month. The Field this year will have 75 white flags with dark blue ribbons. Each flag represents a child who died of child abuse or neglect in Arizona in 2019.&nbsp\;
LOCATION:The Field can be found in A.J. Chandler Park on the north side. The observance will begin on Monday at 9:00am. The program will include a Proclamation from the Mayor\, a blessing of the Field\, plus displays from child abuse prevention agencies. After the ceremony\, the Field will remain up until Wednesday afternoon to remind the public of this domestic violence crisis.
UID:e.1561.38931
SEQUENCE:3
DTSTAMP:20260424T153318Z
URL:https://business.chandlerchamber.com/events/details/exchange-club-hosts-field-of-hope-38931
END:VEVENT

END:VCALENDAR
