BEGIN:VCALENDAR
VERSION:2.0
PRODID:-//ChamberMaster//Event Calendar 2.0//EN
METHOD:PUBLISH
X-PUBLISHED-TTL:P3D
REFRESH-INTERVAL:P3D
CALSCALE:GREGORIAN
BEGIN:VEVENT
DTSTART;VALUE=DATE:20170825
DTEND;VALUE=DATE:20170828
TRANSP:TRANSPARENT
X-MICROSOFT-CDO-ALLDAYEVENT:TRUE
SUMMARY:Experience Camp Unplugg'd August 25-27 2017
DESCRIPTION:3-day\, 2-night summer camp for adults where you are free from technology and "off the grid."\n\nCamp Guidelines: 'Tech-less'\; 'No W*RK Talk'\; 'Stress-Free'\n\n51 Hours! 25+ Activities! 0 Technology! Dare to Unplug?
X-ALT-DESC;FMTTYPE=text/html:3-day\, 2-night summer camp for adults where you are free from technology and &quot\;off the grid.&quot\;<br />\nCamp Guidelines: &#39\;Tech-less&#39\;\; &#39\;No W*RK Talk&#39\;\; &#39\;Stress-Free&#39\;<br />\n51 Hours! 25+ Activities! 0 Technology! Dare to Unplug?&nbsp\;&nbsp\;&nbsp\;&nbsp\;&nbsp\;&nbsp\;&nbsp\;&nbsp\;&nbsp\;&nbsp\;&nbsp\;&nbsp\;&nbsp\;&nbsp\;&nbsp\;&nbsp\;&nbsp\;&nbsp\;&nbsp\;&nbsp\;<br />\n&nbsp\;&nbsp\;&nbsp\;&nbsp\;
LOCATION:
UID:e.1561.19093
SEQUENCE:3
DTSTAMP:20260424T063713Z
URL:https://business.chandlerchamber.com/events/details/experience-camp-unplugg-d-august-25-27-2017-19093
END:VEVENT

END:VCALENDAR
