BEGIN:VCALENDAR
VERSION:2.0
PRODID:-//ChamberMaster//Event Calendar 2.0//EN
METHOD:PUBLISH
X-PUBLISHED-TTL:P3D
REFRESH-INTERVAL:P3D
CALSCALE:GREGORIAN
BEGIN:VEVENT
DTSTART:20170805T013000Z
DTEND:20170805T033000Z
X-MICROSOFT-CDO-ALLDAYEVENT:FALSE
SUMMARY:Fall 17 cabi Launch Show
DESCRIPTION:I am super happy to launch the new Fall 17 cabi collection! I am hosting it at my home at 6:30pm Friday August 4th I will be providing some sips and snacks. I'm looking forward to a great ladies night out with fun\, food\, drinks\, and shopping! Come help me celebrate this new season! Thank you\, Sherry Hewitson - Independent cabi Stylist
X-ALT-DESC;FMTTYPE=text/html:I am super happy to launch the new Fall 17 cabi collection! I am hosting it at my home at 6:30pm Friday August 4th I will be providing some sips and snacks. I&#39\;m looking forward to a great ladies night out with fun\, food\, drinks\, and shopping! Come help me celebrate this new season! Thank you\, Sherry Hewitson - Independent cabi Stylist
LOCATION:My Home
UID:e.1561.19112
SEQUENCE:3
DTSTAMP:20260424T075951Z
URL:https://business.chandlerchamber.com/events/details/fall-17-cabi-launch-show-19112
END:VEVENT

END:VCALENDAR
