BEGIN:VCALENDAR
VERSION:2.0
PRODID:-//ChamberMaster//Event Calendar 2.0//EN
METHOD:PUBLISH
X-PUBLISHED-TTL:P3D
REFRESH-INTERVAL:P3D
CALSCALE:GREGORIAN
BEGIN:VEVENT
DTSTART:20180505T143000Z
DTEND:20180505T173000Z
X-MICROSOFT-CDO-ALLDAYEVENT:FALSE
SUMMARY:Family Fun Walk
DESCRIPTION:Come join us in the 5th Annual Family Fun Walk! This 1.5 mile walk celebrates families who have "stepped up" to care for Arizona's foster children. Register at www.familyfunwalk.org or contact Jackie at 602-930-4452 for more information
X-ALT-DESC;FMTTYPE=text/html:Come join us in the 5th Annual Family Fun Walk! This 1.5 mile walk celebrates families who have &quot\;stepped up&quot\; to care for Arizona&#39\;s foster children. Register at www.familyfunwalk.org or contact Jackie at 602-930-4452 for more information
LOCATION:Steele Indian School Park 300 W. Indian School Rd.\, Phoenix
UID:e.1561.20922
SEQUENCE:3
DTSTAMP:20260423T192157Z
URL:https://business.chandlerchamber.com/events/details/family-fun-walk-20922
END:VEVENT

END:VCALENDAR
