BEGIN:VCALENDAR
VERSION:2.0
PRODID:-//ChamberMaster//Event Calendar 2.0//EN
METHOD:PUBLISH
X-PUBLISHED-TTL:P3D
REFRESH-INTERVAL:P3D
CALSCALE:GREGORIAN
BEGIN:VEVENT
DTSTART:20171027T003000Z
DTEND:20171027T023000Z
X-MICROSOFT-CDO-ALLDAYEVENT:FALSE
SUMMARY:Family Trunk or Treat at The Forum
DESCRIPTION:Trunk or Treat at The Forum is going to be an event that you and your kids won't want to miss. Come trick or treat right in our parking lot!
X-ALT-DESC;FMTTYPE=text/html:Trunk or Treat at The Forum is going to be an event that you and your kids won&#39\;t want to miss. Come trick or treat right in our parking lot!
LOCATION:The Forum 2301 S. Stearman Dr. Chandler\, AZ 85286
UID:e.1561.19196
SEQUENCE:3
DTSTAMP:20260424T035616Z
URL:https://business.chandlerchamber.com/events/details/family-trunk-or-treat-at-the-forum-19196
END:VEVENT

END:VCALENDAR
