BEGIN:VCALENDAR
VERSION:2.0
PRODID:-//ChamberMaster//Event Calendar 2.0//EN
METHOD:PUBLISH
X-PUBLISHED-TTL:P3D
REFRESH-INTERVAL:P3D
CALSCALE:GREGORIAN
BEGIN:VEVENT
DTSTART:20210730T010000Z
DTEND:20210730T030000Z
X-MICROSOFT-CDO-ALLDAYEVENT:FALSE
SUMMARY:Fashion for Food
DESCRIPTION:Cabi Clothing & Serrano's Restaurant collaborate\, for a fun evening of Fashion\, Fun and Philanthropy\, to support AZCEND.org\, a local 501-c. Gather your girls\, grab a beverage & watch Cabi's Fall Collection come to life. The Fall Collection is chalked full of Styles we want to wear now\, rich colors and beautiful textures!
X-ALT-DESC;FMTTYPE=text/html:Cabi Clothing &amp\; Serrano&#39\;s Restaurant collaborate\, for a fun evening of Fashion\, Fun and Philanthropy\, to support AZCEND.org\, a local 501-c. Gather your girls\, grab a beverage &amp\; watch Cabi&#39\;s Fall Collection come to life. The Fall Collection is chalked full of Styles we want to wear now\, rich colors and beautiful textures!
LOCATION:Serrano's Restaurant 25 S Arizona Pl\, Ste 230\, Chandler (480) 899-7379
UID:e.1561.39984
SEQUENCE:3
DTSTAMP:20260423T113606Z
URL:https://business.chandlerchamber.com/events/details/fashion-for-food-07-29-2021-39984
END:VEVENT

END:VCALENDAR
