BEGIN:VCALENDAR
VERSION:2.0
PRODID:-//ChamberMaster//Event Calendar 2.0//EN
METHOD:PUBLISH
X-PUBLISHED-TTL:P3D
REFRESH-INTERVAL:P3D
CALSCALE:GREGORIAN
BEGIN:VEVENT
DTSTART:20170917T000000Z
DTEND:20170917T065500Z
X-MICROSOFT-CDO-ALLDAYEVENT:FALSE
SUMMARY:Fiestas Patrias Celebration at Casino Arizona
DESCRIPTION:Click Here\n\n\n\nFIESTAS PATRIAS: LITTLE JOE Y LA FAMILIA\, LOS TEXMANIACS WITH FLACO JIMENEZ AND AUGIE MEYERS\, RUBEN RAMOS & THE MEXICAN REVOLUTION\n\nSaturday\, September 16\, 2017 at Casino Arizona \n\n \n\nCelebrate Fiestas Patrias with live entertainment by Little Joe y La Familia\, Los Texmaniacs featuring Flaco Jimenez and Augie Meyers\, Ruben Ramos & the Mexican Revolution on September 16\, 2017 at Casino Arizona! Radio personality Manic Hispanic from Mega 104.3 will emcee and Arizona's own Reality Band will open the show. Enjoy an entire evening under the stars full of music\, food and festivities. Must be 21+ to attend. \n\nOutdoor Concert:\n\n	Time: Doors open at 4pm and the party goes on until midnight!\n	Tickets: General Admission - $30\n	Tickets: VIP non reserved seating - $75 - includes VIP parking (open at 2pm)\, Meet & Greet with Little Joe prior to his performance\, private VIP bar area
X-ALT-DESC;FMTTYPE=text/html:<a href="https://chambermaster.blob.core.windows.net/userfiles/UserFiles/chambers/1561/File/fiestapatrias.jpg">Click Here</a><br />\n<br />\n<strong><span style="color:black\;"><span style="font-family:verdana\,sans-serif\;"><span style="font-size:10.0pt\;">FIESTAS PATRIAS: LITTLE JOE Y LA FAMILIA\, LOS TEXMANIACS WITH FLACO JIMENEZ AND AUGIE MEYERS\, RUBEN RAMOS &amp\; THE MEXICAN REVOLUTION</span></span></span></strong><br />\n<span style="color:black\;"><span style="font-family:verdana\,sans-serif\;"><span style="font-size:10.0pt\;">Saturday\, September 16\, 2017&nbsp\;at Casino Arizona&trade\;</span></span></span><br />\n&nbsp\;<br />\n<span style="color:black\;"><span style="font-family:verdana\,sans-serif\;"><span style="font-size:10.0pt\;">Celebrate Fiestas Patrias with live entertainment by&nbsp\;<strong>Little Joe y La Familia</strong>\,&nbsp\;<strong>Los Texmaniacs featuring Flaco Jimenez and Augie Meyers\,</strong>&nbsp\;<strong>Ruben Ramos &amp\; the Mexican Revolution</strong>&nbsp\;on&nbsp\;September 16\, 2017 at Casino Arizona! Radio personality Manic Hispanic from Mega 104.3 will emcee and Arizona&#39\;s own Reality Band will open the show. Enjoy an entire evening under the stars full of music\, food and festivities. Must be 21+ to attend.&nbsp\;</span></span></span><br />\n<strong><span style="color:black\;"><span style="font-family:verdana\,sans-serif\;"><span style="font-size:10.0pt\;">Outdoor Concert:</span></span></span></strong>\n<ul>\n	<li style="color:black\;"><span style="font-family:verdana\,sans-serif\;"><span style="font-size:10.0pt\;">Time: Doors open at 4pm and the party goes on until midnight!</span></span></li>\n	<li style="color:black\;"><span style="font-family:verdana\,sans-serif\;"><span style="font-size:10.0pt\;">Tickets: General Admission - $30</span></span></li>\n	<li style="color:black\;"><span style="font-family:verdana\,sans-serif\;"><span style="font-size:10.0pt\;">Tickets: VIP non reserved seating - $75&nbsp\;- includes VIP parking (open at 2pm)\, Meet &amp\; Greet with Little Joe prior to his performance\, private VIP bar area</span></span></li>\n</ul>\n
LOCATION:Casino Arizona located at the 101 and McKellips Rd
UID:e.1561.19153
SEQUENCE:3
DTSTAMP:20260424T051516Z
URL:https://business.chandlerchamber.com/events/details/fiestas-patrias-celebration-at-casino-arizona-19153
END:VEVENT

END:VCALENDAR
