BEGIN:VCALENDAR
VERSION:2.0
PRODID:-//ChamberMaster//Event Calendar 2.0//EN
METHOD:PUBLISH
X-PUBLISHED-TTL:P3D
REFRESH-INTERVAL:P3D
CALSCALE:GREGORIAN
BEGIN:VEVENT
DTSTART:20200205T010000Z
DTEND:20200205T033000Z
X-MICROSOFT-CDO-ALLDAYEVENT:FALSE
SUMMARY:Film Screening: Always in Season
DESCRIPTION:In Always in Season\, descendants of the victims and perpetrators of lynching are working together to heal a violent history. Blending observational footage with first-person testimonies and expert input\, Always in Season examines the lingering impact of lynching and the link between this historic form of racial terrorism and the racial violence that exists today.
X-ALT-DESC;FMTTYPE=text/html:In Always in Season\, descendants of the victims and perpetrators of lynching are working together to heal a violent history. Blending observational footage with first-person testimonies and expert input\, Always in Season examines the lingering impact of lynching and the link between this historic form of racial terrorism and the racial violence that exists today.
LOCATION:Burton Barr Central Library 1221 N Central Ave\, Phoenix\, AZ 85004
UID:e.1561.38793
SEQUENCE:3
DTSTAMP:20260420T151853Z
URL:https://business.chandlerchamber.com/events/details/film-screening-always-in-season-38793
END:VEVENT

END:VCALENDAR
