BEGIN:VCALENDAR
VERSION:2.0
PRODID:-//ChamberMaster//Event Calendar 2.0//EN
METHOD:PUBLISH
X-PUBLISHED-TTL:P3D
REFRESH-INTERVAL:P3D
CALSCALE:GREGORIAN
BEGIN:VEVENT
DTSTART:20200325T010000Z
DTEND:20200325T033000Z
X-MICROSOFT-CDO-ALLDAYEVENT:FALSE
SUMMARY:Film Screening: Bedlam
DESCRIPTION:Filmmaker and practicing psychiatrist\, Kenneth Paul Rosenberg M.D. visits ERs\, jails\, and homeless camps to examine our national mental health crisis. Dr. Rosenberg follows the poignant stories of people grappling with schizophrenia\, bipolar disorder\, and other chronic psychiatric conditions\, whose silence and shame often worsen the suffering.
X-ALT-DESC;FMTTYPE=text/html:Filmmaker and practicing psychiatrist\, Kenneth Paul Rosenberg M.D. visits ERs\, jails\, and homeless camps to examine our national mental health crisis. Dr. Rosenberg follows the poignant stories of people grappling with schizophrenia\, bipolar disorder\, and other chronic psychiatric conditions\, whose silence and shame often worsen the suffering.
LOCATION:Tempe History Museum\, 809 East Southern Avenue\, Tempe\, AZ\, 85282
UID:e.1561.38897
SEQUENCE:3
DTSTAMP:20260424T163230Z
URL:https://business.chandlerchamber.com/events/details/film-screening-bedlam-38897
END:VEVENT

END:VCALENDAR
