BEGIN:VCALENDAR
VERSION:2.0
PRODID:-//ChamberMaster//Event Calendar 2.0//EN
METHOD:PUBLISH
X-PUBLISHED-TTL:P3D
REFRESH-INTERVAL:P3D
CALSCALE:GREGORIAN
BEGIN:VEVENT
DTSTART:20200422T010000Z
DTEND:20200422T033000Z
X-MICROSOFT-CDO-ALLDAYEVENT:FALSE
SUMMARY:Film Screening: Eating Up Easter
DESCRIPTION:More than just a picture postcard of iconic stone statues\, Rapa Nui\, also known as Easter Island\, is a microcosm of a planet in flux. Native Rapanui grapple with a booming tourism trade that brings in money - and waste - and a changing climate that threatens the fragile ecology on the island. Rapanui filmmakers Sergio Mata'u Rapu and Elena Rapu give voice to his fellow islanders\, featuring artists\, ecologists\, and developers who balance their strong cultural heritage with modern-day challenges. Though it is the most remote inhabited island in the world\, Rapa Nui reflects the clash between growth and sustainability faced by communities worldwide.
X-ALT-DESC;FMTTYPE=text/html:More than just a picture postcard of iconic stone statues\, Rapa Nui\, also known as Easter Island\, is a microcosm of a planet in flux. Native Rapanui grapple with a booming tourism trade that brings in money - and waste - and a changing climate that threatens the fragile ecology on the island. Rapanui filmmakers Sergio Mata&rsquo\;u Rapu and Elena Rapu give voice to his fellow islanders\, featuring artists\, ecologists\, and developers who balance their strong cultural heritage with modern-day challenges. Though it is the most remote inhabited island in the world\, Rapa Nui reflects the clash between growth and sustainability faced by communities worldwide.
LOCATION:Tempe History Museum\, 809 East Southern Avenue\, Tempe\, AZ\, 85282
UID:e.1561.38900
SEQUENCE:3
DTSTAMP:20260424T150336Z
URL:https://business.chandlerchamber.com/events/details/film-screening-eating-up-easter-38900
END:VEVENT

END:VCALENDAR
