BEGIN:VCALENDAR
VERSION:2.0
PRODID:-//ChamberMaster//Event Calendar 2.0//EN
METHOD:PUBLISH
X-PUBLISHED-TTL:P3D
REFRESH-INTERVAL:P3D
CALSCALE:GREGORIAN
BEGIN:VEVENT
DTSTART:20190423T010000Z
DTEND:20190423T020000Z
X-MICROSOFT-CDO-ALLDAYEVENT:FALSE
SUMMARY:Financial Literacy Class
DESCRIPTION:Protecting yourself from Scams Description: Smart saving and using common sense money management skills helps individuals and families meet the financial challenges of today's tough economy. This seminar will provide information about frauds & scams\, how to avoid credit card and tax scams\, and actions to take in the event that someone has defrauded you.
X-ALT-DESC;FMTTYPE=text/html:Protecting yourself from Scams Description: Smart saving and using common sense money management skills helps individuals and families meet the financial challenges of today&rsquo\;s tough economy. This seminar will provide information about frauds &amp\; scams\, how to avoid credit card and tax scams\, and actions to take in the event that someone has defrauded you.
LOCATION:22 S. Delaware St. Chandler\, AZ
UID:e.1561.36694
SEQUENCE:3
DTSTAMP:20260423T033221Z
URL:https://business.chandlerchamber.com/events/details/financial-literacy-class-04-22-2019-36694
END:VEVENT

END:VCALENDAR
