BEGIN:VCALENDAR
VERSION:2.0
PRODID:-//ChamberMaster//Event Calendar 2.0//EN
METHOD:PUBLISH
X-PUBLISHED-TTL:P3D
REFRESH-INTERVAL:P3D
CALSCALE:GREGORIAN
BEGIN:VEVENT
DTSTART:20190416T010000Z
DTEND:20190416T020000Z
X-MICROSOFT-CDO-ALLDAYEVENT:FALSE
SUMMARY:Financial Literacy Class
DESCRIPTION:Building Good Credit Description: Smart saving and using common sense money management skills helps individuals and families meet the financial challenges of today's tough economy. This informative seminar will highlight the differences between cash and credit\, how to maintain good credit\, how to stay out of debt\, how to navigate auto loans\, credit cards\, and how to get a credit report.
X-ALT-DESC;FMTTYPE=text/html:Building Good Credit Description: Smart saving and using common sense money management skills helps individuals and families meet the financial challenges of today&rsquo\;s tough economy. This informative seminar will highlight the differences between cash and credit\, how to maintain good credit\, how to stay out of debt\, how to navigate auto loans\, credit cards\, and how to get a credit report.
LOCATION:71 S. Hamilton - Housing Youth Center
UID:e.1561.36693
SEQUENCE:3
DTSTAMP:20260423T033047Z
URL:https://business.chandlerchamber.com/events/details/financial-literacy-class-36693
END:VEVENT

END:VCALENDAR
