BEGIN:VCALENDAR
VERSION:2.0
PRODID:-//ChamberMaster//Event Calendar 2.0//EN
METHOD:PUBLISH
X-PUBLISHED-TTL:P3D
REFRESH-INTERVAL:P3D
CALSCALE:GREGORIAN
BEGIN:VEVENT
DTSTART:20190321T190000Z
DTEND:20190523T210000Z
X-MICROSOFT-CDO-ALLDAYEVENT:FALSE
SUMMARY:Financial Peace University at The Forum
DESCRIPTION:Financial Peace University is a 9-week course that will help you take control of your money\, plan for your future\, and transform your life. Dave Ramsey's proven program will teach you how to win with money. Join us for Nine weekly video lessons featuring Dave Ramsey\, Rachel Cruze\, and Chris Hogan. Come early each week and enjoy lunch or a snack at The Forum. Please RSVP below to reserve your classroom seat. Link for payment for materials is: https://www.fpu.com/1085690 Discount applied through reserving through The Forum!
X-ALT-DESC;FMTTYPE=text/html:Financial Peace University is a 9-week course that will help you take control of your money\, plan for your future\, and transform your life. Dave Ramsey&#39\;s proven program will teach you how to win with money. Join us for Nine weekly video lessons featuring Dave Ramsey\, Rachel Cruze\, and Chris Hogan. Come early each week and enjoy lunch or a snack at The Forum. Please RSVP below to reserve your classroom seat. Link for payment for materials is: https://www.fpu.com/1085690 Discount applied through reserving through The Forum!
LOCATION:The Forum 2301 S Stearman Dr \, Chandler\, AZ 85286
UID:e.1561.36635
SEQUENCE:3
DTSTAMP:20260423T021032Z
URL:https://business.chandlerchamber.com/events/details/financial-peace-university-at-the-forum-36635
END:VEVENT

END:VCALENDAR
