BEGIN:VCALENDAR
VERSION:2.0
PRODID:-//ChamberMaster//Event Calendar 2.0//EN
METHOD:PUBLISH
X-PUBLISHED-TTL:P3D
REFRESH-INTERVAL:P3D
CALSCALE:GREGORIAN
BEGIN:VEVENT
DTSTART:20180622T153000Z
DTEND:20180622T173000Z
X-MICROSOFT-CDO-ALLDAYEVENT:FALSE
SUMMARY:Financing Your Business - Chamber University 618
DESCRIPTION:Chamber University is a deep dive into educational seminars that are aimed to sharpen your business knowledge\, explore new technology and techniques and increase professional development.\n\nJune 22nd installment features:\n\nDallas Doonan with Arizona Bank and Trust\n\nThis workshop will provide information for small business owners with annual revenues below $2 million\, looking for traditional bank financing between $10\,000 and $500\,000.\n\nIt will cover the current banking industry requirements on topics like underwriting\, credit\, and profitability. Handouts will be provided.\n\n\n\n*A Business Education certificate will be issued at the complete of the class.
X-ALT-DESC;FMTTYPE=text/html:<div _mce_style="font-size: 12pt\; color: #000000\;" style="font-family: Calibri\, Helvetica\, Arial\, sans-serif\; font-size: 12pt\; color: rgb(0\, 0\, 0)\;"><b>Chamber University is a deep dive into educational seminars that are aimed to sharpen your business knowledge\, explore new technology and techniques and increase professional development.<br />\nJune 22nd installment features:<br />\nDallas Doonan&nbsp\;with Arizona Bank and Trust</b></div>\n\n<p _mce_style="font-size: 12pt\; color: #000000\;" style="font-family: Calibri\, Helvetica\, Arial\, sans-serif\; font-size: 12pt\; color: rgb(0\, 0\, 0)\;">This workshop will provide information for small business&nbsp\;owners with annual revenues below $2 million\, looking for&nbsp\;traditional bank financing between $10\,000 and $500\,000.<br />\nIt will cover the current banking industry requirements on&nbsp\;topics like underwriting\, credit\, and profitability. Handouts&nbsp\;will be provided.<br />\n<br />\n<em>*A Business Education certificate will be issued at the complete of the class.</em></p>\n
LOCATION:Chandler Chamber 25 S Arizona Place Chandler\, AZ 85225
UID:e.1561.33660
SEQUENCE:3
DTSTAMP:20260423T163617Z
URL:https://business.chandlerchamber.com/events/details/financing-your-business-chamber-university-618-33660
END:VEVENT

END:VCALENDAR
