BEGIN:VCALENDAR
VERSION:2.0
PRODID:-//ChamberMaster//Event Calendar 2.0//EN
METHOD:PUBLISH
X-PUBLISHED-TTL:P3D
REFRESH-INTERVAL:P3D
CALSCALE:GREGORIAN
BEGIN:VEVENT
DTSTART:20180907T003000Z
DTEND:20180907T020000Z
X-MICROSOFT-CDO-ALLDAYEVENT:FALSE
SUMMARY:First Home Buyer Workshop with Chamber Discount
DESCRIPTION:We have a new workshop to share with everyone that will show you ALL the secrets to getting the FREE GRANT MONEY and First Time Home Buyers will also learn the 5 biggest mistakes when buying a house and how to avoid them. As usual it's a super casual vibe with free beer/wine and pizza. We also have Paragon Credit Repair on site to show us some tips and tricks with credit. We will have a drawing for a top secret prize to anyone that brings a friend also. Space is limited to the first 10 people that RSVP\, you won't want to miss this one! After all\, you might as well get that free money from Maricopa County before anyone else does!!
X-ALT-DESC;FMTTYPE=text/html:We have a new workshop to share with everyone that will show you ALL the secrets to getting the FREE GRANT MONEY and First Time Home Buyers will also learn the 5 biggest mistakes when buying a house and how to avoid them. As usual it&#39\;s a super casual vibe with free beer/wine and pizza. We also have Paragon Credit Repair on site to show us some tips and tricks with credit. We will have a drawing for a top secret prize to anyone that brings a friend also. Space is limited to the first 10 people that RSVP\, you won&#39\;t want to miss this one! After all\, you might as well get that free money from Maricopa County before anyone else does!!
LOCATION:The Forum Chandler - 2301 S Stearman Dr #4\, Chandler\, AZ 85286
UID:e.1561.34160
SEQUENCE:3
DTSTAMP:20260423T124302Z
URL:https://business.chandlerchamber.com/events/details/first-home-buyer-workshop-with-chamber-discount-34160
END:VEVENT

END:VCALENDAR
