BEGIN:VCALENDAR
VERSION:2.0
PRODID:-//ChamberMaster//Event Calendar 2.0//EN
METHOD:PUBLISH
X-PUBLISHED-TTL:P3D
REFRESH-INTERVAL:P3D
CALSCALE:GREGORIAN
BEGIN:VEVENT
DTSTART:20190419T000000Z
DTEND:20190419T020000Z
X-MICROSOFT-CDO-ALLDAYEVENT:FALSE
SUMMARY:FitLife Med Spa Anniversary
DESCRIPTION:
X-ALT-DESC;FMTTYPE=text/html:
LOCATION:
UID:e.1561.36650
SEQUENCE:3
DTSTAMP:20260423T033221Z
URL:https://business.chandlerchamber.com/events/details/fitlife-med-spa-anniversary-36650
END:VEVENT

END:VCALENDAR
